BEGIN:VCALENDAR
VERSION:2.0
PRODID:-//Tukios.com/
BEGIN:VEVENT
UID:6267b735-8c52-44ea-a9b9-feca8d51884e@www.trimblefuneralhomes.com
DTSTAMP:20260421T021134Z
DTSTART:20260510T180000Z
DTEND:20260510T190000Z
SUMMARY:Celebration of Life
DESCRIPTION:
URL:https://www.trimblefuneralhomes.com/obituaries/shirley-rexroad
LOCATION: 200 S 12th St  Le Claire IA 52753
GEO:41.5962182;-90.358618
END:VEVENT
END:VCALENDAR