BEGIN:VCALENDAR
VERSION:2.0
PRODID:-//Tukios.com/
BEGIN:VEVENT
UID:043f0945-c8be-4bb3-bd65-db7c1012795b@www.trimblefuneralhomes.com
DTSTAMP:20260423T171846Z
DTSTART:20260523T170000Z
DTEND:20260523T190000Z
SUMMARY:Hospitality Gathering
DESCRIPTION:
URL:https://www.trimblefuneralhomes.com/obituaries/george-seaberg
LOCATION:CityView Celebrations at Trimble Pointe 701 12th Street  Moline 
	IL 61265
GEO:41.5030622;-90.5205164
END:VEVENT
END:VCALENDAR