BEGIN:VCALENDAR
VERSION:2.0
PRODID:-//Tukios.com/
BEGIN:VEVENT
UID:f8e8ac85-2d79-42f1-a2fa-2ba190a53648@www.trimblefuneralhomes.com
DTSTAMP:20260423T171538Z
DTSTART:20260523T160000Z
DTEND:20260523T170000Z
SUMMARY:Memorial Service
DESCRIPTION:
URL:https://www.trimblefuneralhomes.com/obituaries/george-seaberg
LOCATION:Horizon Room at Trimble Funeral Home at Trimble Pointe 701 12th 
	Street  Moline IL 61265
GEO:41.5030622;-90.5205164
END:VEVENT
END:VCALENDAR