BEGIN:VCALENDAR
VERSION:2.0
PRODID:-//Tukios.com/
BEGIN:VEVENT
UID:4307b0b5-07da-419a-a09d-cfc42c1b26ed@www.trimblefuneralhomes.com
DTSTAMP:20260421T002523Z
DTSTART:20260425T170000Z
DTEND:20260425T183000Z
SUMMARY:Hospitality Luncheon
DESCRIPTION:
URL:https://www.trimblefuneralhomes.com/obituaries/dorance-johnson
LOCATION: 701 12th Street  Moline IL 61265
GEO:41.5030622;-90.5205164
END:VEVENT
END:VCALENDAR