BEGIN:VCALENDAR
VERSION:2.0
PRODID:-//Tukios.com/
BEGIN:VEVENT
UID:0c064704-aa52-4485-96bc-db4712043903@www.trimblefuneralhomes.com
DTSTAMP:20260421T002033Z
DTSTART:20260427T140000Z
DTEND:20260427T143000Z
SUMMARY:Procession to Cemetery
DESCRIPTION:
URL:https://www.trimblefuneralhomes.com/obituaries/dorance-johnson
LOCATION: 701 12th Street  Moline IL 61265
GEO:41.5030353;-90.5205027
END:VEVENT
END:VCALENDAR