BEGIN:VCALENDAR
VERSION:2.0
PRODID:-//Tukios.com/
BEGIN:VEVENT
UID:4f4181af-7c58-48ca-8802-1a90b9b7752a@www.trimblefuneralhomes.com
DTSTAMP:20260421T002529Z
DTSTART:20260427T143000Z
DTEND:20260427T153000Z
SUMMARY:Burial
DESCRIPTION:
URL:https://www.trimblefuneralhomes.com/obituaries/dorance-johnson
LOCATION:Rock Island National Cemetery 1600 River Drive  Moline IL 61265
GEO:41.5084588;-90.5157947
END:VEVENT
END:VCALENDAR