BEGIN:VCALENDAR
VERSION:2.0
PRODID:-//Tukios.com/
BEGIN:VEVENT
UID:ea40886c-697a-404a-bd54-63af7d6e7616@www.trimblefuneralhomes.com
DTSTAMP:20260421T002523Z
DTSTART:20260425T160000Z
DTEND:20260425T170000Z
SUMMARY:Funeral Service
DESCRIPTION:
URL:https://www.trimblefuneralhomes.com/obituaries/dorance-johnson
LOCATION:Horizon Room at Trimble Funeral Home at Trimble Pointe 701 12th 
	Street  Moline IL 61265
GEO:41.5030622;-90.5205164
END:VEVENT
END:VCALENDAR