BEGIN:VCALENDAR
VERSION:2.0
PRODID:-//Tukios.com/
BEGIN:VEVENT
UID:27491a53-2eed-4c61-8663-91ad1f932207@www.trimblefuneralhomes.com
DTSTAMP:20260421T002349Z
DTSTART:20260425T150000Z
DTEND:20260425T160000Z
SUMMARY:Visitation
DESCRIPTION:
URL:https://www.trimblefuneralhomes.com/obituaries/dorance-johnson
LOCATION:Horizon Room at Trimble Funeral Home at Trimble Pointe 701 12th 
	Street  Moline IL 61265
GEO:41.5030353;-90.5205027
END:VEVENT
END:VCALENDAR